BEGIN:VCALENDAR
VERSION:2.0
PRODID:-//ChamberMaster//Event Calendar 2.0//EN
METHOD:PUBLISH
X-PUBLISHED-TTL:P3D
REFRESH-INTERVAL:P3D
CALSCALE:GREGORIAN
BEGIN:VEVENT
DTSTART:20100127T131500Z
DTEND:20100127T150000Z
X-MICROSOFT-CDO-ALLDAYEVENT:FALSE
SUMMARY:2011 January CIO Breakfast
DESCRIPTION:CIO Breakfast - Thursday\, January 27\, 2011LOCATION:  Petroleum Club7:15  am:Registration & Breakfast7:55 am:Welcome & Introductions8:00 am:Collaboration & the C Suite\, \nPresented by Manish Kapoor\, NuStar EnergyWhat does it take to enable Collaboration and why do companies use it. This will not be a repeat of the 2010 Doug Skiba presentation but will address what your executive committee should know
X-ALT-DESC;FMTTYPE=text/html:<H1>CIO Breakfast - <FONT size=3>Thursday\, January 27\, 2011</FONT></H1><P>LOCATION:&nbsp\; Petroleum Club</P><P></P><P></P><P><TABLE id=agenda cellSpacing=0 cellPadding=0 border=0><TBODY><TR><TH><P>7:15&nbsp\;&nbsp\;am:</P></TH><TD><P>Registration &amp\; Breakfast</P></TD></TR><TR><TH>7:55 am:</TH><TD>Welcome &amp\; Introductions</TD></TR><TR><TH>8:00 am:</TH><TD><P>Collaboration &amp\; the C Suite\, <BR>Presented by Manish Kapoor\, NuStar Energy</P><P>What does it take to enable Collaboration and why do companies use it. This will not be a repeat of the 2010 Doug Skiba presentation but will address what your executive committee should know</P></TD></TR><TR><TH></TH><TD></TD></TR></TBODY></TABLE></P>
LOCATION:The Petroleum Club
UID:e.2020.846
SEQUENCE:3
DTSTAMP:20260424T152204Z
URL:https://members.metrosa.com/events/details/2011-january-cio-breakfast-01-27-2010-846
END:VEVENT

END:VCALENDAR
