BEGIN:VCALENDAR
VERSION:2.0
PRODID:-//ChamberMaster//Event Calendar 2.0//EN
METHOD:PUBLISH
X-PUBLISHED-TTL:P3D
REFRESH-INTERVAL:P3D
CALSCALE:GREGORIAN
BEGIN:VEVENT
DTSTART:20110317T163000Z
DTEND:20110317T180000Z
X-MICROSOFT-CDO-ALLDAYEVENT:FALSE
SUMMARY:2011 March*Ambassador Lunch Meeting
DESCRIPTION:Entree Choice #1: Buttermilk Fried Chicken Bites\, Skin on Garlic mashers\, Black Pepper Gravy\, Mixed Green Salad with Olive Vinaigrette\, Tomatoes\, House Pulled Mozzarella\, Coffee\, Iced Tea and Water included. No Dessert.Entree Choice #2: Auden's Kitchen Corned Beef\, Red Potatoes\, Cabbage\, Mixed Green Salad with Olive Vinaigrette\, Tomatoes\, House Pulled Mozzarella\, Coffee\, Iced Tea and Water included. No Dessert.Green Beer $5.50 a pint to be paid by each individual.
X-ALT-DESC;FMTTYPE=text/html:<P>Entree Choice #1: Buttermilk Fried Chicken Bites\, Skin on Garlic mashers\, Black Pepper Gravy\, Mixed Green Salad with Olive Vinaigrette\, Tomatoes\, House Pulled Mozzarella\, Coffee\, Iced Tea and Water included. No Dessert.</P><P>Entree Choice #2: Auden's Kitchen Corned Beef\, Red Potatoes\, Cabbage\, Mixed Green Salad with Olive Vinaigrette\, Tomatoes\, House Pulled Mozzarella\, Coffee\, Iced Tea and Water included. No Dessert.</P><P>Green Beer $5.50 a pint to be paid by each individual. </P>
LOCATION:Auden's Kitchen
UID:e.2020.874
SEQUENCE:3
DTSTAMP:20260423T224845Z
URL:https://members.metrosa.com/events/details/2011-march-ambassador-lunch-meeting-03-17-2011-874
END:VEVENT

END:VCALENDAR
