BEGIN:VCALENDAR
VERSION:2.0
PRODID:-//ChamberMaster//Event Calendar 2.0//EN
METHOD:PUBLISH
X-PUBLISHED-TTL:P3D
REFRESH-INTERVAL:P3D
CALSCALE:GREGORIAN
BEGIN:VEVENT
DTSTART:20110324T121500Z
DTEND:20110324T140000Z
X-MICROSOFT-CDO-ALLDAYEVENT:FALSE
SUMMARY:2011 March CIO Breakfast
DESCRIPTION:March 24\, 2011 CIO Breakfast\nLocation:  Petroleum Club\n7:15 - 7:55 Registration & Breakfast\n7:55 - 9:00 Program2011 CIO Agenda & TrendsFacilitated by Doug Skiba\, Frost BankPresenter: Steve High\, Gartner Gartner's annual CIO survey is the largest and longest running of its kind. For the 2011 agenda\, 2\,014 CIOs responded. Come see the results\, including discussions about IT's strategic relevance\, benefits realization\, IT skill building\, CIO personal influence/authority\, levels of digitization and others
X-ALT-DESC;FMTTYPE=text/html:<P>March 24\, 2011 CIO Breakfast<BR>Location:&nbsp\; Petroleum Club<BR>7:15 - 7:55 Registration &amp\; Breakfast<BR>7:55 - 9:00 Program</P><P class=MsoNormal style="MARGIN: 3.75pt 0in"><SPAN style="FONT-SIZE: 9pt\; COLOR: black">2011 CIO Agenda &amp\; Trends<?xml:namespace prefix = o ns = "urn:schemas-microsoft-com:office:office" /><o:p></o:p></SPAN></P><P class=MsoNormal style="MARGIN: 3.75pt 0in"><SPAN style="FONT-SIZE: 9pt\; COLOR: black">Facilitated by Doug Skiba\, Frost Bank<o:p></o:p></SPAN></P><P class=MsoNormal style="MARGIN: 3.75pt 0in"><SPAN style="FONT-SIZE: 9pt\; COLOR: black">Presenter: Steve High\, Gartner <o:p></o:p></SPAN></P><P><SPAN style="FONT-SIZE: 9pt\; COLOR: black\; FONT-FAMILY: 'Times New Roman'\,'serif'\; mso-fareast-font-family: Calibri\; mso-fareast-theme-font: minor-latin\; mso-ansi-language: EN-US\; mso-fareast-language: EN-US\; mso-bidi-language: AR-SA">Gartner's annual CIO survey is the largest and longest running of its kind. For the 2011 agenda\, 2\,014 CIOs responded. Come see the results\, including discussions about IT's strategic relevance\, benefits realization\, IT skill building\, CIO personal influence/authority\, levels of digitization and others</SPAN></P>
LOCATION:The Petroleum Club
UID:e.2020.848
SEQUENCE:3
DTSTAMP:20260423T224338Z
URL:https://members.metrosa.com/events/details/2011-march-cio-breakfast-03-24-2011-848
END:VEVENT

END:VCALENDAR
