BEGIN:VCALENDAR
VERSION:2.0
PRODID:-//ChamberMaster//Event Calendar 2.0//EN
METHOD:PUBLISH
X-PUBLISHED-TTL:P3D
REFRESH-INTERVAL:P3D
CALSCALE:GREGORIAN
BEGIN:VEVENT
DTSTART:20111010T050000Z
DTEND:20111010T050000Z
X-MICROSOFT-CDO-ALLDAYEVENT:FALSE
SUMMARY:2012 Leadership Lab Sponsors
DESCRIPTION:
X-ALT-DESC;FMTTYPE=text/html:
LOCATION:North Chamber
UID:e.2020.941
SEQUENCE:3
DTSTAMP:20260423T142124Z
URL:https://members.metrosa.com/events/details/2012-leadership-lab-sponsors-10-10-2011-941
END:VEVENT

END:VCALENDAR
