BEGIN:VCALENDAR
VERSION:2.0
PRODID:-//ChamberMaster//Event Calendar 2.0//EN
METHOD:PUBLISH
X-PUBLISHED-TTL:P3D
REFRESH-INTERVAL:P3D
CALSCALE:GREGORIAN
BEGIN:VEVENT
DTSTART:20251212T143000Z
DTEND:20251212T153000Z
X-MICROSOFT-CDO-ALLDAYEVENT:FALSE
SUMMARY:2025 Membership Mingle (December)
DESCRIPTION:Come join us for Tea of all kinds (many Holiday-themed varieties!) on Friday\, December 12 and meet some of your fellow members. This event is designed as a fun onboarding experience for members to learn more about the Metro SA Chamber. It is open to all stages of membership. Just became a member? Looking to get more engaged? New to your company? Interested in joining the Chamber? Come check us out at member business\, laTEAda.\n\n\n\nRegister online or let Rich know you will make it.
X-ALT-DESC;FMTTYPE=text/html:<br />\nCome join us for <em>Tea</em> of all kinds (many Holiday-themed varieties!) on <strong>Friday\, December 12</strong> and meet some of your fellow members. This event is designed as a fun onboarding experience for members to learn more about the Metro SA Chamber. It is open to all stages of membership. Just became a member? Looking to get more engaged? New to your company? Interested in joining the Chamber? Come check us out at member business\, laTEAda.<br />\n<br />\nRegister online or let Rich know you will make it.\n<div style="color: rgb(0\, 0\, 0)\; font-family: Tahoma\, Geneva\, sans-serif\; font-size: 14px\; white-space: pre-wrap\;">&nbsp\;</div>\n
LOCATION:laTEAda 434 N Loop 1604 W\, Suite 1101\, San Antonio\, TX 78232
UID:e.2020.14605
SEQUENCE:3
DTSTAMP:20260419T162107Z
URL:https://members.metrosa.com/events/details/2025-membership-mingle-december-14605
END:VEVENT

END:VCALENDAR
