BEGIN:VCALENDAR
VERSION:2.0
PRODID:-//ChamberMaster//Event Calendar 2.0//EN
METHOD:PUBLISH
X-PUBLISHED-TTL:P3D
REFRESH-INTERVAL:P3D
CALSCALE:GREGORIAN
BEGIN:VEVENT
DTSTART:20251216T164500Z
DTEND:20251216T174500Z
X-MICROSOFT-CDO-ALLDAYEVENT:FALSE
SUMMARY:2025 Ribbon Cutting: Slim Chickens Grand Opening
DESCRIPTION:Join us as we welcome Slim Chickens and their Potranco location into the Metro Chamber with a special Ribbon Cutting and Grand Opening celebration!
X-ALT-DESC;FMTTYPE=text/html:<p><font color="#000000" face="aptos\, sans-serif"><span style="font-size: 16px\;">Join us as we welcome&nbsp\;Slim Chickens and their Potranco location&nbsp\;into the Metro Chamber with a special Ribbon Cutting and Grand Opening celebration!&nbsp\;</span></font><br />\n<br />\n<br />\n&nbsp\;</p>\n
LOCATION:Slim Chickens 14583 Potranco Rd. San Antonio\, TX 78253
UID:e.2020.14604
SEQUENCE:3
DTSTAMP:20260419T162441Z
URL:https://members.metrosa.com/events/details/2025-ribbon-cutting-slim-chickens-grand-opening-14604
END:VEVENT

END:VCALENDAR
