BEGIN:VCALENDAR
VERSION:2.0
PRODID:-//ChamberMaster//Event Calendar 2.0//EN
METHOD:PUBLISH
X-PUBLISHED-TTL:P3D
REFRESH-INTERVAL:P3D
CALSCALE:GREGORIAN
BEGIN:VEVENT
DTSTART:20260226T230000Z
DTEND:20260227T010000Z
X-MICROSOFT-CDO-ALLDAYEVENT:FALSE
SUMMARY:2026 Membership Mixer Hosted by PopStroke
DESCRIPTION:Join us for a fun-filled evening with drinks\, appetizers and an opportunity to mingle with fellow members! This event is hosted and sponsored by our friends at PopStroke!
X-ALT-DESC;FMTTYPE=text/html:<br />\nJoin us for a fun-filled evening with drinks\, appetizers and an opportunity to mingle with fellow members! This event is hosted and sponsored by our friends at PopStroke!\n<div style="color: rgb(0\, 0\, 0)\; font-family: Tahoma\, Geneva\, sans-serif\; font-size: 14px\; white-space: pre-wrap\;">&nbsp\;</div>\n
LOCATION:PopStroke 5539 Presidio Parkway\, San Antonio\, TX 78249
UID:e.2020.14623
SEQUENCE:3
DTSTAMP:20260419T135731Z
URL:https://members.metrosa.com/events/details/2026-membership-mixer-hosted-by-popstroke-14623
END:VEVENT

END:VCALENDAR
