BEGIN:VCALENDAR
VERSION:2.0
PRODID:-//ChamberMaster//Event Calendar 2.0//EN
METHOD:PUBLISH
X-PUBLISHED-TTL:P3D
REFRESH-INTERVAL:P3D
CALSCALE:GREGORIAN
BEGIN:VEVENT
DTSTART:20260512T170000Z
DTEND:20260512T180000Z
X-MICROSOFT-CDO-ALLDAYEVENT:FALSE
SUMMARY:2026 Ribbon Cutting: Direct Auto Insurance 14-Year Anniversary
DESCRIPTION:Join us as we help our friends at Direct Auto Insurance celebrate 14 years of service at their SW Loop 410 location.
X-ALT-DESC;FMTTYPE=text/html:<p><span style="color: rgb(0\, 0\, 0)\; font-family: aptos\, sans-serif\; font-size: 16px\;">Join us as we help our friends at Direct Auto Insurance celebrate 14&nbsp\;years of service at&nbsp\;their SW Loop 410 location.</span><br />\n&nbsp\;</p>\n
LOCATION:Direct Auto Insurance 1739 Southwest Loop 410\, Suite 405 San Antonio\, TX 78227
UID:e.2020.14663
SEQUENCE:3
DTSTAMP:20260422T222617Z
URL:https://members.metrosa.com/events/details/2026-ribbon-cutting-direct-auto-insurance-14-year-anniversary-14663
END:VEVENT

END:VCALENDAR
