BEGIN:VCALENDAR
VERSION:2.0
PRODID:-//ChamberMaster//Event Calendar 2.0//EN
METHOD:PUBLISH
X-PUBLISHED-TTL:P3D
REFRESH-INTERVAL:P3D
CALSCALE:GREGORIAN
BEGIN:VEVENT
DTSTART:20260323T161500Z
DTEND:20260323T171500Z
X-MICROSOFT-CDO-ALLDAYEVENT:FALSE
SUMMARY:2026 Ribbon Cutting: Flasher Fleet Solutions Grand Opening
DESCRIPTION:Join us on Monday\, March 23 as we celebrate our friends at Flasher Equipment Company with the Grand Opening of their new business venture\, Flasher Fleet Solutions!\n\n\n\nAbout: Flasher Fleet Solutions\, formerly Killshot Upfitting\, specializes in vehicle lighting and custom upfitting for full fleets\, law enforcement\, and search and rescue vehicles. With years of hands-on experience equipping police units\, response vehicles\, and fleet operations\, we understand what it takes to improve visibility\, functionality\, and safety in demanding environments.
X-ALT-DESC;FMTTYPE=text/html:<p><span style="font-family:tahoma\;"><span style="font-size:11.0pt\;"><span style="font-size:14px\;">Join us on <strong>Monday\, March 23</strong>&nbsp\;as we celebrate our friends at Flasher Equipment Company with the Grand Opening of their new business venture\, Flasher Fleet Solutions!</span><br />\n<br />\n<span style="font-size:14px\;">About:</span>&nbsp\;</span></span><span style="font-size:14px\;"><span style="font-family:tahoma\,sans-serif\;">Flasher Fleet Solutions\, formerly Killshot Upfitting\, specializes in vehicle lighting and custom upfitting for full fleets\, law enforcement\, and search and rescue vehicles. With years of hands-on experience equipping police units\, response vehicles\, and fleet operations\, we understand what it takes to improve visibility\, functionality\, and safety in demanding environments.</span></span><br />\n<br />\n<br />\n<br />\n&nbsp\;</p>\n
LOCATION:Flasher Fleet Solutions 5827 W US 90 San Antonio\, TX 78227
UID:e.2020.14643
SEQUENCE:3
DTSTAMP:20260419T123445Z
URL:https://members.metrosa.com/events/details/2026-ribbon-cutting-flasher-fleet-solutions-grand-opening-14643
END:VEVENT

END:VCALENDAR
