BEGIN:VCALENDAR
VERSION:2.0
PRODID:-//ChamberMaster//Event Calendar 2.0//EN
METHOD:PUBLISH
X-PUBLISHED-TTL:P3D
REFRESH-INTERVAL:P3D
CALSCALE:GREGORIAN
BEGIN:VEVENT
DTSTART:20260121T170000Z
DTEND:20260121T180000Z
X-MICROSOFT-CDO-ALLDAYEVENT:FALSE
SUMMARY:2026 Ribbon Cutting: PNC Bank Grand Opening
DESCRIPTION:Join us as celebrate Metro SA Chamber member\, PNC Bank\, on the Grand Opening of their newest branch location!
X-ALT-DESC;FMTTYPE=text/html:<p><font color="#000000" face="aptos\, sans-serif"><span style="font-size: 16px\;">Join us as celebrate Metro SA Chamber member\, PNC Bank\, on the Grand Opening of their newest branch location!</span></font><br />\n<br />\n<br />\n<br />\n&nbsp\;</p>\n
LOCATION:PNC Bank 5518 N. Loop 1604 W.\, Suite 105 San Antonio\, TX 782549
UID:e.2020.14621
SEQUENCE:3
DTSTAMP:20260419T151454Z
URL:https://members.metrosa.com/events/details/2026-ribbon-cutting-pnc-bank-grand-opening-14621
END:VEVENT

END:VCALENDAR
