BEGIN:VCALENDAR
VERSION:2.0
PRODID:-//ChamberMaster//Event Calendar 2.0//EN
METHOD:PUBLISH
X-PUBLISHED-TTL:P3D
REFRESH-INTERVAL:P3D
CALSCALE:GREGORIAN
BEGIN:VEVENT
DTSTART:20260203T220000Z
DTEND:20260203T230000Z
X-MICROSOFT-CDO-ALLDAYEVENT:FALSE
SUMMARY:2026 Ribbon Cutting: Quick Quack Car Wash Grand Opening
DESCRIPTION:Join us as celebrate Metro SA Chamber member\, Quick Quack Car Wash\, on the Grand Opening of their newest location!
X-ALT-DESC;FMTTYPE=text/html:<p><font color="#000000" face="aptos\, sans-serif"><span style="font-size: 16px\;">Join us as celebrate Metro SA Chamber member\, Quick Quack Car Wash\, on the Grand Opening of their newest location!</span></font><br />\n<br />\n<br />\n<br />\n&nbsp\;</p>\n
LOCATION:Quick Quack Car Wash 18054 Bulverde Rd San Antonio\, TX 78259
UID:e.2020.14619
SEQUENCE:3
DTSTAMP:20260419T140253Z
URL:https://members.metrosa.com/events/details/2026-ribbon-cutting-quick-quack-car-wash-grand-opening-14619
END:VEVENT

END:VCALENDAR
