BEGIN:VCALENDAR
VERSION:2.0
PRODID:-//ChamberMaster//Event Calendar 2.0//EN
METHOD:PUBLISH
X-PUBLISHED-TTL:P3D
REFRESH-INTERVAL:P3D
CALSCALE:GREGORIAN
BEGIN:VEVENT
DTSTART:20260514T160000Z
DTEND:20260514T170000Z
X-MICROSOFT-CDO-ALLDAYEVENT:FALSE
SUMMARY:2026 Ribbon Cutting: South Texas Blood & Tissue Grand Opening
DESCRIPTION:Join us on Thursday\, May 14 as we celebrate Metro Chamber member South Texas Blood & Tissue on the Grand Opening of their Alamo Heights Donor Center!
X-ALT-DESC;FMTTYPE=text/html:<p><span style="font-family:tahoma\;"><span style="font-size:11.0pt\;">Join us on <strong>Thursday\, May 14</strong> as we celebrate Metro Chamber member South Texas Blood &amp\; Tissue on the Grand Opening of their Alamo Heights Donor Center!</span></span><br />\n<br />\n<br />\n<br />\n&nbsp\;</p>\n
LOCATION:South Texas Blood & Tissue 1242 Austin Highway\, Suite 106 San Antonio\, TX 78209
UID:e.2020.14660
SEQUENCE:3
DTSTAMP:20260420T202105Z
URL:https://members.metrosa.com/events/details/2026-ribbon-cutting-south-texas-blood-tissue-grand-opening-14660
END:VEVENT

END:VCALENDAR
