BEGIN:VCALENDAR
VERSION:2.0
PRODID:-//ChamberMaster//Event Calendar 2.0//EN
METHOD:PUBLISH
X-PUBLISHED-TTL:P3D
REFRESH-INTERVAL:P3D
CALSCALE:GREGORIAN
BEGIN:VEVENT
DTSTART:20260227T224500Z
DTEND:20260227T234500Z
X-MICROSOFT-CDO-ALLDAYEVENT:FALSE
SUMMARY:2026 Ribbon Cutting: Wulfspar Nexus Grand Opening
DESCRIPTION:Join us on Friday\, February 27 as we welcome Wulfspar Nexus into the Metro Chamber with a special Grand Opening Ribbon Cutting ceremony!\n\n\n\nAbout Wulfspar: Coming soon February 2026 in Leon Valley\, Texas\, Wulfspar Nexus will be more than just a venue it will be a vibrant hub where competition\, creativity\, and connection come alive. From high-performance PC and console stations to immersive experiences and a community-focused lounge\, every detail is designed to welcome both casual players and dedicated competitors.\n\nWulfspar is about more than gaming. It's about inspiring growth\, teamwork\, and belonging. Whether you're celebrating a birthday\, training with your squad\, watching a tournament\, or just enjoying time with friends\, Wulfspar Nexus will be your home base for unforgettable experiences.
X-ALT-DESC;FMTTYPE=text/html:<p><span style="font-family:tahoma\;"><span style="font-size:11.0pt\;">Join us on <strong>Friday\, February 27</strong>&nbsp\;as we welcome Wulfspar Nexus into the Metro Chamber with a special Grand Opening Ribbon Cutting ceremony!<br />\n<br />\nAbout Wulfspar:&nbsp\;</span><span style="font-size:14px\;">Coming soon February 2026 in Leon Valley\, Texas\, Wulfspar Nexus will be more than just a venue&mdash\;it will be a vibrant hub where competition\, creativity\, and connection come alive. From high-performance PC and console stations to immersive experiences and a community-focused lounge\, every detail is designed to welcome both casual players and dedicated competitors.<br />\nWulfspar is about more than gaming. It&rsquo\;s about inspiring growth\, teamwork\, and belonging. Whether you&rsquo\;re celebrating a birthday\, training with your squad\, watching a tournament\, or just enjoying time with friends\, Wulfspar Nexus will be your home base for unforgettable experiences.</span></span><br />\n<br />\n<br />\n<br />\n&nbsp\;</p>\n
LOCATION:Wulfspar Nexus 7007 Bandera Road\, Suite 18 San Antonio\, TX 78238
UID:e.2020.14639
SEQUENCE:3
DTSTAMP:20260419T140242Z
URL:https://members.metrosa.com/events/details/2026-ribbon-cutting-wulfspar-nexus-grand-opening-14639
END:VEVENT

END:VCALENDAR
