BEGIN:VCALENDAR
VERSION:2.0
PRODID:-//ChamberMaster//Event Calendar 2.0//EN
METHOD:PUBLISH
X-PUBLISHED-TTL:P3D
REFRESH-INTERVAL:P3D
CALSCALE:GREGORIAN
BEGIN:VEVENT
DTSTART:20260122T230000Z
DTEND:20260123T010000Z
X-MICROSOFT-CDO-ALLDAYEVENT:FALSE
SUMMARY:January 2026 Membership Mixer Hosted by Fogo de Chão
DESCRIPTION:Join us for a fun-filled evening with drinks\, appetizers and an opportunity to mingle with fellow members! This event is hosted and sponsored by our friends at Fogo de Ch o San Antonio North!
X-ALT-DESC;FMTTYPE=text/html:<br />\n<span style="font-family:tahoma\;">Join us for a fun-filled evening with drinks\, appetizers and an opportunity to mingle with fellow members! This event is hosted and sponsored by our friends at Fogo de Ch&atilde\;o San Antonio North!</span>\n<div style="color: rgb(0\, 0\, 0)\; font-family: Tahoma\, Geneva\, sans-serif\; font-size: 14px\; white-space: pre-wrap\;">&nbsp\;</div>\n
LOCATION:Fogo de Ch o San Antonio North 5546 N. Loop 1604 W\, Suite 160\, San Antonio\, TX 78249
UID:e.2020.14609
SEQUENCE:3
DTSTAMP:20260419T162557Z
URL:https://members.metrosa.com/events/details/january-2026-membership-mixer-hosted-by-fogo-de-ch&#227;o-14609
END:VEVENT

END:VCALENDAR
